Workbook

Sheet Bilgi
B1: Sağlık, Kültür ve Spor Daire Başkanlığı KULÜP YILLIK FAALİYET PLANLAMA FORMU | C1: Doküman No | D1: SKS-FR-620
C2: İlk Yayın Tarihi | D2: 45182
C3: Revizyon Tarihi
C4: Revizyon No | D4: 0
C5: Sayfa | D5: 1/1
A7: Değerli Kulüplerimiz; Geçerli akademik yıl içerisinde düzenlemek üzere planlamalarını yaptığınız faliyetler ile ilgilili hazırlamanız gereken bu formu doldururken dikkat etmeniz gereken hususlar aşağıdaki gibidir. 1. Bu sekme bilgilendirme amaçlıdır. Lütfen dikkatlice okuyunuz. 2. Diğer sekmelerde tablo ve hücre şekilleri üzerinde herhangi bir değişiklik yapmayınız. Satır/sutun eklemeyiniz veya silmeyiniz. 3. Düzenlemek istediğiniz her bir faaliyeti konularına göre ayrı ayrı sekmelerde (F1 sekmesinden başlayarak) detaylı bir şekilde açıklayınız. 4. Etkinlik için sponsorunuz varsa -Etkinilk Paydaşları- bölümüne bilgilerini yazınız. 5. İlk 11 sorunun yanıtlanması zorunludur. 6. Etkinlikte bütçe talebi var ise 12. ve 13. soruların yanıtlanması gerekmektedir. 7. Düzenli tekrarlı olarak planlanan faaliyetleri tek bir sekmede yazınız. (ÖRN: 2 ayda bir olmak üzere çeşitli konularda sanat atölyesi planlanıyor ve senede toplam 4 kez düzenlenmek isteniyorsa bu bilgiler tek sekme üzerine işlenmelidir. Bütçe talebi varsa, bütçe kısmına 4 atöleyenin toplam bütçesi yazılmalıdır.)
A8: SORULAR | B8: YANITLAR | F8: Ana Faaliyet Türleri | G8: Alt Faaliyet Türleri
A9: 1. Kulüp Adı | B9: Kulüp adını Türkçe olarak kısaltma kullanmadan yazınız. Kulüp kısaltma adı varsa; Türkçe adın arından parantez içerisinde yazınız. | F9: Bilimsel Faaliyet | G9: Kongre, Sempozyum, Kurultay, Seminer, Konferans, Çalıştay, Workshop, Forum, Zirve, Panel, Açık Oturum vs.
A10: 2. Etkinlik Adı | B10: Etkinliğinizi diğer faaliyetlerden ayıracak, etkinliğinize özgü ve özgün bir isim olmalıdır. ÖRN: "Seminer" bir etkinlik ismi değildir. "9. İZÜ Kültür Sempozyumu" bir etkinlik ismidir. | F10: Eğitim Programları | G10: Eğitim, Atölye, Kurs, Sertifike Programı vs.
A11: 3. Etkinlik Türü | B11: Etkinlik Türünü öğrenebilmek için yan tarafta bulunan tablodan faydalanabilirsiniz. | F11: Söyleşi / Sohbet | G11: Söyleşi, Sohbet, Röportaj, Motivasyon Faaliyeti, İkramlı Program vs.
A12: 4. Etkinlik Kitlesi | B12: Düzenlenmesi planlanan bu etkinlik kimlere hitap etmektedir. Kulüp Üyelerine Özel / Üniversite Öğrencilerimize Özel / İlköğretim veya Lise Öğrencileri / Ulusal / Uluslararası / Diğer | F12: Değerlendirme ve Tahlil | G12: Kitap Tahlili, Sinema/Film/Belgesel Tahlili vs.
A13: 5. Etkinlik İçeriği | B13: Bu etkinliğin konusu nedir? Etkinliğin içeriği nedir? Etkinlikte neler yapılacak? Gibi sorulara yanıt verilmelidir. | F13: İşitsel / Görsel Gösteri | G13: Tiyatro Gösterisi, Sinema/Film Gösterimi, Müzik Dinletisi, Şiir Dinletisi, Halk Oyunları vs.
A14: 6. Hedef Kazanım/lar | B14: Bu etkinlik ile katılımcılarda meydana gelmesi beklenen hedef kazanım veya kazanımlar nelerdir? Bu etkinlik, etkinliğe katılan bir kişiye hangi özellik/bilgi/deneyimi kazandırır? Bu etkinlik neden düzenlenmeli? Bu etkinlik ile okul sosyal ikliminde bulunan hangi eksiklik azaltılabilir veya giderilebilir? | F14: Yazılı / Basılı Faaliyet | G14: Kitap, Dergi, Gazete, Fanzin, Broşür vs.
A15: 7. Etkinliğin Süresi | B15: Etkinlik tek seferlik olarak mı plananıyor ? Etkinlik haftalık veya aylık olarak tekrar ediyor mu? | F15: Tanıtım Faaliyeti | G15: Kulüp Tanıtımı, Tanışma Programı, Kültürel Tanıtım Günleri, Proje Tanıtımı vs.
A16: 8. Düzenlenmesi Planlanan Tarihler | B16: Başlangıç ve Bitiş Tarihi | F16: Sosyal Sorumluluk | G16: Sosyal Sorumluluk, Yardımlaşma Faaliyeti, Dikkat Çekme ve Farkındalık Oluşturma, Kermes vs.
A17: 9. Etkinlik Yeri | B17: Konferans Salonu, Atölye, Derslik, Açık Alan - Bahçe vs. | F17: Yarışma | G17: Bilgi, Tasarım, Fotoğraf, Şiir, Karikatür, El Sanatları, Ses ve Müzik, Spor Müsabakaları vs.
A18: 10. Etkinlik Paydaşları | B18: Etkinliğin birlikte planlandığı veya yürütüldüğü: Kişi, Kurum veya Kuruluş (Üniversitemizin İdari ve Adademik Birimleri- Araştırma Merkezleri, TTO, Kamu, Özel, Vakıf, STK vs.) | F18: Gezi | G18: Kültür ve Turizm, Bilimsel, Teknik, Çevre, Eğitim, Araştırma Gezileri vs.
A19: 11. Etkinlikte Kullanılacak Araç-Gereçler | B19: Etkinlikte kulanılması planlanan malzeme ve materyaller nelerdir? Adet bilgisi yazılmalıdır. | F19: Sergi | G19: Resim, Fotoğraf, Sanat, Tasarım, Karma Sergi vs.
A20: 12. Ayrıntılı Etkinlik Bütçesi | B20: Bütçenin nerelerde ve ne için kullanılacağı açıklanmalıdır. (materyal, ulaşım, ikram, hediye, ödül vb.) | F20: Fuar | G20: Kitap, Yapı, Mobilya, Ticaret, Kültür ve Sanat, Bilişim ve Teknoloji Fuarı vs.
A21: 13. Toplam Etkinlik Bütçesi | B21: 0 | F21: Festival, Şenlik, Şölen | G21: Kültür ve Tanıtım, Kültür ve Sanat, Kadın ve Çocuk, Bilim, Bilişim ve Teknoloji, Uçurtma Şöleni vs.
A22: 14. Diğer Bilgiler / Notlar | F22: Özel Gün ve Haftalar | G22: Milli ve Dini Bayramlar, Kuruluş Günleri, Özel gün ve Haftalar, Anma Törenleri vs.

Sheet F1
A1: 1 | B1: Kulüp Adı
A2: 2 | B2: Etkinlik Adı
A3: 3 | B3: Etkinlik Türü
A4: 4 | B4: Etkinlik Kitlesi
A5: 5 | B5: Etkinlik İçeriği
A6: 6 | B6: Hedef Kazanım/lar
A7: 7 | B7: Etkinliğin Süresi
A8: 8 | B8: Düzenlenmesi Planlanan Tarihler
A9: 9 | B9: Etkinlik Yeri
A10: 10 | B10: Etkinlik Paydaşları
A11: 11 | B11: Etkinlikte Kullanılacak Araç-Gereçler
A12: 12 | B12: Ayrıntılı Etkinlik Bütçesi
A13: 13 | B13: Toplam Etkinlik Bütçesi | C13: 0
A14: 14 | B14: Diğer Bilgiler / Notlar

Sheet F2
A1: 1 | B1: Kulüp Adı
A2: 2 | B2: Etkinlik Adı
A3: 3 | B3: Etkinlik Türü
A4: 4 | B4: Etkinlik Kitlesi
A5: 5 | B5: Etkinlik İçeriği
A6: 6 | B6: Hedef Kazanım/lar
A7: 7 | B7: Etkinliğin Süresi
A8: 8 | B8: Düzenlenmesi Planlanan Tarihler
A9: 9 | B9: Etkinlik Yeri
A10: 10 | B10: Etkinlik Paydaşları
A11: 11 | B11: Etkinlikte Kullanılacak Araç-Gereçler
A12: 12 | B12: Ayrıntılı Etkinlik Bütçesi
A13: 13 | B13: Toplam Etkinlik Bütçesi | C13: 0
A14: 14 | B14: Diğer Bilgiler / Notlar

Sheet F3
A1: 1 | B1: Kulüp Adı
A2: 2 | B2: Etkinlik Adı
A3: 3 | B3: Etkinlik Türü
A4: 4 | B4: Etkinlik Kitlesi
A5: 5 | B5: Etkinlik İçeriği
A6: 6 | B6: Hedef Kazanım/lar
A7: 7 | B7: Etkinliğin Süresi
A8: 8 | B8: Düzenlenmesi Planlanan Tarihler
A9: 9 | B9: Etkinlik Yeri
A10: 10 | B10: Etkinlik Paydaşları
A11: 11 | B11: Etkinlikte Kullanılacak Araç-Gereçler
A12: 12 | B12: Ayrıntılı Etkinlik Bütçesi
A13: 13 | B13: Toplam Etkinlik Bütçesi | C13: 0
A14: 14 | B14: Diğer Bilgiler / Notlar

Sheet F4
A1: 1 | B1: Kulüp Adı
A2: 2 | B2: Etkinlik Adı
A3: 3 | B3: Etkinlik Türü
A4: 4 | B4: Etkinlik Kitlesi
A5: 5 | B5: Etkinlik İçeriği
A6: 6 | B6: Hedef Kazanım/lar
A7: 7 | B7: Etkinliğin Süresi
A8: 8 | B8: Düzenlenmesi Planlanan Tarihler
A9: 9 | B9: Etkinlik Yeri
A10: 10 | B10: Etkinlik Paydaşları
A11: 11 | B11: Etkinlikte Kullanılacak Araç-Gereçler
A12: 12 | B12: Ayrıntılı Etkinlik Bütçesi
A13: 13 | B13: Toplam Etkinlik Bütçesi | C13: 0
A14: 14 | B14: Diğer Bilgiler / Notlar

Sheet F5
A1: 1 | B1: Kulüp Adı
A2: 2 | B2: Etkinlik Adı
A3: 3 | B3: Etkinlik Türü
A4: 4 | B4: Etkinlik Kitlesi
A5: 5 | B5: Etkinlik İçeriği
A6: 6 | B6: Hedef Kazanım/lar
A7: 7 | B7: Etkinliğin Süresi
A8: 8 | B8: Düzenlenmesi Planlanan Tarihler
A9: 9 | B9: Etkinlik Yeri
A10: 10 | B10: Etkinlik Paydaşları
A11: 11 | B11: Etkinlikte Kullanılacak Araç-Gereçler
A12: 12 | B12: Ayrıntılı Etkinlik Bütçesi
A13: 13 | B13: Toplam Etkinlik Bütçesi | C13: 0
A14: 14 | B14: Diğer Bilgiler / Notlar

Sheet F6
A1: 1 | B1: Kulüp Adı
A2: 2 | B2: Etkinlik Adı
A3: 3 | B3: Etkinlik Türü
A4: 4 | B4: Etkinlik Kitlesi
A5: 5 | B5: Etkinlik İçeriği
A6: 6 | B6: Hedef Kazanım/lar
A7: 7 | B7: Etkinliğin Süresi
A8: 8 | B8: Düzenlenmesi Planlanan Tarihler
A9: 9 | B9: Etkinlik Yeri
A10: 10 | B10: Etkinlik Paydaşları
A11: 11 | B11: Etkinlikte Kullanılacak Araç-Gereçler
A12: 12 | B12: Ayrıntılı Etkinlik Bütçesi
A13: 13 | B13: Toplam Etkinlik Bütçesi | C13: 0
A14: 14 | B14: Diğer Bilgiler / Notlar

Sheet F7
A1: 1 | B1: Kulüp Adı
A2: 2 | B2: Etkinlik Adı
A3: 3 | B3: Etkinlik Türü
A4: 4 | B4: Etkinlik Kitlesi
A5: 5 | B5: Etkinlik İçeriği
A6: 6 | B6: Hedef Kazanım/lar
A7: 7 | B7: Etkinliğin Süresi
A8: 8 | B8: Düzenlenmesi Planlanan Tarihler
A9: 9 | B9: Etkinlik Yeri
A10: 10 | B10: Etkinlik Paydaşları
A11: 11 | B11: Etkinlikte Kullanılacak Araç-Gereçler
A12: 12 | B12: Ayrıntılı Etkinlik Bütçesi
A13: 13 | B13: Toplam Etkinlik Bütçesi | C13: 0
A14: 14 | B14: Diğer Bilgiler / Notlar

Sheet F8
A1: 1 | B1: Kulüp Adı
A2: 2 | B2: Etkinlik Adı
A3: 3 | B3: Etkinlik Türü
A4: 4 | B4: Etkinlik Kitlesi
A5: 5 | B5: Etkinlik İçeriği
A6: 6 | B6: Hedef Kazanım/lar
A7: 7 | B7: Etkinliğin Süresi
A8: 8 | B8: Düzenlenmesi Planlanan Tarihler
A9: 9 | B9: Etkinlik Yeri
A10: 10 | B10: Etkinlik Paydaşları
A11: 11 | B11: Etkinlikte Kullanılacak Araç-Gereçler
A12: 12 | B12: Ayrıntılı Etkinlik Bütçesi
A13: 13 | B13: Toplam Etkinlik Bütçesi | C13: 0
A14: 14 | B14: Diğer Bilgiler / Notlar

Sheet F9
A1: 1 | B1: Kulüp Adı
A2: 2 | B2: Etkinlik Adı
A3: 3 | B3: Etkinlik Türü
A4: 4 | B4: Etkinlik Kitlesi
A5: 5 | B5: Etkinlik İçeriği
A6: 6 | B6: Hedef Kazanım/lar
A7: 7 | B7: Etkinliğin Süresi
A8: 8 | B8: Düzenlenmesi Planlanan Tarihler
A9: 9 | B9: Etkinlik Yeri
A10: 10 | B10: Etkinlik Paydaşları
A11: 11 | B11: Etkinlikte Kullanılacak Araç-Gereçler
A12: 12 | B12: Ayrıntılı Etkinlik Bütçesi
A13: 13 | B13: Toplam Etkinlik Bütçesi | C13: 0
A14: 14 | B14: Diğer Bilgiler / Notlar

Sheet F10
A1: 1 | B1: Kulüp Adı
A2: 2 | B2: Etkinlik Adı
A3: 3 | B3: Etkinlik Türü
A4: 4 | B4: Etkinlik Kitlesi
A5: 5 | B5: Etkinlik İçeriği
A6: 6 | B6: Hedef Kazanım/lar
A7: 7 | B7: Etkinliğin Süresi
A8: 8 | B8: Düzenlenmesi Planlanan Tarihler
A9: 9 | B9: Etkinlik Yeri
A10: 10 | B10: Etkinlik Paydaşları
A11: 11 | B11: Etkinlikte Kullanılacak Araç-Gereçler
A12: 12 | B12: Ayrıntılı Etkinlik Bütçesi
A13: 13 | B13: Toplam Etkinlik Bütçesi | C13: 0
A14: 14 | B14: Diğer Bilgiler / Notlar

Sheet F11
A1: 1 | B1: Kulüp Adı
A2: 2 | B2: Etkinlik Adı
A3: 3 | B3: Etkinlik Türü
A4: 4 | B4: Etkinlik Kitlesi
A5: 5 | B5: Etkinlik İçeriği
A6: 6 | B6: Hedef Kazanım/lar
A7: 7 | B7: Etkinliğin Süresi
A8: 8 | B8: Düzenlenmesi Planlanan Tarihler
A9: 9 | B9: Etkinlik Yeri
A10: 10 | B10: Etkinlik Paydaşları
A11: 11 | B11: Etkinlikte Kullanılacak Araç-Gereçler
A12: 12 | B12: Ayrıntılı Etkinlik Bütçesi
A13: 13 | B13: Toplam Etkinlik Bütçesi | C13: 0
A14: 14 | B14: Diğer Bilgiler / Notlar

Sheet F12
A1: 1 | B1: Kulüp Adı
A2: 2 | B2: Etkinlik Adı
A3: 3 | B3: Etkinlik Türü
A4: 4 | B4: Etkinlik Kitlesi
A5: 5 | B5: Etkinlik İçeriği
A6: 6 | B6: Hedef Kazanım/lar
A7: 7 | B7: Etkinliğin Süresi
A8: 8 | B8: Düzenlenmesi Planlanan Tarihler
A9: 9 | B9: Etkinlik Yeri
A10: 10 | B10: Etkinlik Paydaşları
A11: 11 | B11: Etkinlikte Kullanılacak Araç-Gereçler
A12: 12 | B12: Ayrıntılı Etkinlik Bütçesi
A13: 13 | B13: Toplam Etkinlik Bütçesi | C13: 0
A14: 14 | B14: Diğer Bilgiler / Notlar

Sheet F13
A1: 1 | B1: Kulüp Adı
A2: 2 | B2: Etkinlik Adı
A3: 3 | B3: Etkinlik Türü
A4: 4 | B4: Etkinlik Kitlesi
A5: 5 | B5: Etkinlik İçeriği
A6: 6 | B6: Hedef Kazanım/lar
A7: 7 | B7: Etkinliğin Süresi
A8: 8 | B8: Düzenlenmesi Planlanan Tarihler
A9: 9 | B9: Etkinlik Yeri
A10: 10 | B10: Etkinlik Paydaşları
A11: 11 | B11: Etkinlikte Kullanılacak Araç-Gereçler
A12: 12 | B12: Ayrıntılı Etkinlik Bütçesi
A13: 13 | B13: Toplam Etkinlik Bütçesi | C13: 0
A14: 14 | B14: Diğer Bilgiler / Notlar

Sheet F14
A1: 1 | B1: Kulüp Adı
A2: 2 | B2: Etkinlik Adı
A3: 3 | B3: Etkinlik Türü
A4: 4 | B4: Etkinlik Kitlesi
A5: 5 | B5: Etkinlik İçeriği
A6: 6 | B6: Hedef Kazanım/lar
A7: 7 | B7: Etkinliğin Süresi
A8: 8 | B8: Düzenlenmesi Planlanan Tarihler
A9: 9 | B9: Etkinlik Yeri
A10: 10 | B10: Etkinlik Paydaşları
A11: 11 | B11: Etkinlikte Kullanılacak Araç-Gereçler
A12: 12 | B12: Ayrıntılı Etkinlik Bütçesi
A13: 13 | B13: Toplam Etkinlik Bütçesi | C13: 0
A14: 14 | B14: Diğer Bilgiler / Notlar

Sheet F15
A1: 1 | B1: Kulüp Adı
A2: 2 | B2: Etkinlik Adı
A3: 3 | B3: Etkinlik Türü
A4: 4 | B4: Etkinlik Kitlesi
A5: 5 | B5: Etkinlik İçeriği
A6: 6 | B6: Hedef Kazanım/lar
A7: 7 | B7: Etkinliğin Süresi
A8: 8 | B8: Düzenlenmesi Planlanan Tarihler
A9: 9 | B9: Etkinlik Yeri
A10: 10 | B10: Etkinlik Paydaşları
A11: 11 | B11: Etkinlikte Kullanılacak Araç-Gereçler
A12: 12 | B12: Ayrıntılı Etkinlik Bütçesi
A13: 13 | B13: Toplam Etkinlik Bütçesi | C13: 0
A14: 14 | B14: Diğer Bilgiler / Notlar

Sheet Genel Faaliyet Planı
A1: S.N. | B1: Kulüp Adı | C1: Etkinlik Adı | D1: Etkinlik Türü | E1: Etkinlik Kitlesi | F1: Etkinlik İçeriği | G1: Hedef Kazanım/lar | H1: Etkinliğin Süresi | I1: Düzenlenmesi Planlanan Tarihler | J1: Etkinlik Yeri | K1: Etkinlik Paydaşları | L1: Etkinlikte Kullanılacak Araç-Gereçler | M1: Ayrıntılı Etkinlik Bütçesi | N1: TALEP EDİLEN Toplam Etkinlik Bütçesi | O1: Diğer Bilgiler / Notlar
A2: 1 | B2: =IF('F1'!C1="","",'F1'!C1) | C2: =IF('F1'!C2="","",'F1'!C2) | D2: =IF('F1'!C3="","",'F1'!C3) | E2: =IF('F1'!C4="","",'F1'!C4) | F2: =IF('F1'!C5="","",'F1'!C5) | G2: =IF('F1'!C6="","",'F1'!C6) | H2: =IF('F1'!C7="","",'F1'!C7) | I2: =IF('F1'!C8="","",'F1'!C8) | J2: =IF('F1'!C9="","",'F1'!C9) | K2: =IF('F1'!C10="","",'F1'!C10) | L2: =IF('F1'!C11="","",'F1'!C11) | M2: =IF('F1'!C12="","",'F1'!C12) | N2: =IF('F1'!C13="","",'F1'!C13) -> 0 | O2: =IF('F1'!C14="","",'F1'!C14)
A3: 2 | B3: =IF('F2'!C1="","",'F2'!C1) | C3: =IF('F2'!C2="","",'F2'!C2) | D3: =IF('F2'!C3="","",'F2'!C3) | E3: =IF('F2'!C4="","",'F2'!C4) | F3: =IF('F2'!C5="","",'F2'!C5) | G3: =IF('F2'!C6="","",'F2'!C6) | H3: =IF('F2'!C7="","",'F2'!C7) | I3: =IF('F2'!C8="","",'F2'!C8) | J3: =IF('F2'!C9="","",'F2'!C9) | K3: =IF('F2'!C10="","",'F2'!C10) | L3: =IF('F2'!C11="","",'F2'!C11) | M3: =IF('F2'!C12="","",'F2'!C12) | N3: =IF('F2'!C13="","",'F2'!C13) -> 0 | O3: =IF('F2'!C14="","",'F2'!C14)
A4: 3 | B4: =IF('F3'!C1="","",'F3'!C1) | C4: =IF('F3'!C2="","",'F3'!C2) | D4: =IF('F3'!C3="","",'F3'!C3) | E4: =IF('F3'!C4="","",'F3'!C4) | F4: =IF('F3'!C5="","",'F3'!C5) | G4: =IF('F3'!C6="","",'F3'!C6) | H4: =IF('F3'!C7="","",'F3'!C7) | I4: =IF('F3'!C8="","",'F3'!C8) | J4: =IF('F3'!C9="","",'F3'!C9) | K4: =IF('F3'!C10="","",'F3'!C10) | L4: =IF('F3'!C11="","",'F3'!C11) | M4: =IF('F3'!C12="","",'F3'!C12) | N4: =IF('F3'!C13="","",'F3'!C13) -> 0 | O4: =IF('F3'!C14="","",'F3'!C14)
A5: 4 | B5: =IF('F4'!C1="","",'F4'!C1) | C5: =IF('F4'!C2="","",'F4'!C2) | D5: =IF('F4'!C3="","",'F4'!C3) | E5: =IF('F4'!C4="","",'F4'!C4) | F5: =IF('F4'!C5="","",'F4'!C5) | G5: =IF('F4'!C6="","",'F4'!C6) | H5: =IF('F4'!C7="","",'F4'!C7) | I5: =IF('F4'!C8="","",'F4'!C8) | J5: =IF('F4'!C9="","",'F4'!C9) | K5: =IF('F4'!C10="","",'F4'!C10) | L5: =IF('F4'!C11="","",'F4'!C11) | M5: =IF('F4'!C12="","",'F4'!C12) | N5: =IF('F4'!C13="","",'F4'!C13) -> 0 | O5: =IF('F4'!C14="","",'F4'!C14)
A6: 5 | B6: =IF('F5'!C1="","",'F5'!C1) | C6: =IF('F5'!C2="","",'F5'!C2) | D6: =IF('F5'!C3="","",'F5'!C3) | E6: =IF('F5'!C4="","",'F5'!C4) | F6: =IF('F5'!C5="","",'F5'!C5) | G6: =IF('F5'!C6="","",'F5'!C6) | H6: =IF('F5'!C7="","",'F5'!C7) | I6: =IF('F5'!C8="","",'F5'!C8) | J6: =IF('F5'!C9="","",'F5'!C9) | K6: =IF('F5'!C10="","",'F5'!C10) | L6: =IF('F5'!C11="","",'F5'!C11) | M6: =IF('F5'!C12="","",'F5'!C12) | N6: =IF('F5'!C13="","",'F5'!C13) -> 0 | O6: =IF('F5'!C14="","",'F5'!C14)
A7: 6 | B7: =IF('F6'!C1="","",'F6'!C1) | C7: =IF('F6'!C2="","",'F6'!C2) | D7: =IF('F6'!C3="","",'F6'!C3) | E7: =IF('F6'!C4="","",'F6'!C4) | F7: =IF('F6'!C5="","",'F6'!C5) | G7: =IF('F6'!C6="","",'F6'!C6) | H7: =IF('F6'!C7="","",'F6'!C7) | I7: =IF('F6'!C8="","",'F6'!C8) | J7: =IF('F6'!C9="","",'F6'!C9) | K7: =IF('F6'!C10="","",'F6'!C10) | L7: =IF('F6'!C11="","",'F6'!C11) | M7: =IF('F6'!C12="","",'F6'!C12) | N7: =IF('F6'!C13="","",'F6'!C13) -> 0 | O7: =IF('F6'!C14="","",'F6'!C14)
A8: 7 | B8: =IF('F7'!C1="","",'F7'!C1) | C8: =IF('F8'!C2="","",'F7'!C2) | D8: =IF('F7'!C3="","",'F7'!C3) | E8: =IF('F7'!C4="","",'F7'!C4) | F8: =IF('F7'!C5="","",'F7'!C5) | G8: =IF('F7'!C6="","",'F7'!C6) | H8: =IF('F7'!C7="","",'F7'!C7) | I8: =IF('F7'!C8="","",'F7'!C8) | J8: =IF('F7'!C9="","",'F7'!C9) | K8: =IF('F7'!C10="","",'F7'!C10) | L8: =IF('F7'!C11="","",'F7'!C11) | M8: =IF('F7'!C12="","",'F7'!C12) | N8: =IF('F7'!C13="","",'F7'!C13) -> 0 | O8: =IF('F7'!C14="","",'F7'!C14)
A9: 8 | B9: =IF('F8'!C1="","",'F8'!C1) | C9: =IF('F8'!C2="","",'F8'!C2) | D9: =IF('F8'!C3="","",'F8'!C3) | E9: =IF('F8'!C4="","",'F8'!C4) | F9: =IF('F8'!C5="","",'F8'!C5) | G9: =IF('F8'!C6="","",'F8'!C6) | H9: =IF('F8'!C7="","",'F8'!C7) | I9: =IF('F8'!C8="","",'F8'!C8) | J9: =IF('F8'!C9="","",'F8'!C9) | K9: =IF('F8'!C10="","",'F8'!C10) | L9: =IF('F8'!C11="","",'F8'!C11) | M9: =IF('F8'!C12="","",'F8'!C12) | N9: =IF('F8'!C13="","",'F8'!C13) -> 0 | O9: =IF('F8'!C14="","",'F8'!C14)
A10: 9 | B10: =IF('F9'!C1="","",'F9'!C1) | C10: =IF('F9'!C2="","",'F9'!C2) | D10: =IF('F9'!C3="","",'F9'!C3) | E10: =IF('F9'!C4="","",'F9'!C4) | F10: =IF('F9'!C5="","",'F9'!C5) | G10: =IF('F9'!C6="","",'F9'!C6) | H10: =IF('F9'!C7="","",'F9'!C7) | I10: =IF('F9'!C8="","",'F9'!C8) | J10: =IF('F9'!C9="","",'F9'!C9) | K10: =IF('F9'!C10="","",'F9'!C10) | L10: =IF('F9'!C11="","",'F9'!C11) | M10: =IF('F9'!C12="","",'F9'!C12) | N10: =IF('F9'!C13="","",'F9'!C13) -> 0 | O10: =IF('F9'!C14="","",'F9'!C14)
A11: 10 | B11: =IF('F10'!C1="","",'F10'!C1) | C11: =IF('F10'!C2="","",'F10'!C2) | D11: =IF('F10'!C3="","",'F10'!C3) | E11: =IF('F10'!C4="","",'F10'!C4) | F11: =IF('F10'!C5="","",'F10'!C5) | G11: =IF('F10'!C6="","",'F10'!C6) | H11: =IF('F10'!C7="","",'F10'!C7) | I11: =IF('F10'!C8="","",'F10'!C8) | J11: =IF('F10'!C9="","",'F10'!C9) | K11: =IF('F10'!C10="","",'F10'!C10) | L11: =IF('F10'!C11="","",'F10'!C11) | M11: =IF('F10'!C12="","",'F10'!C12) | N11: =IF('F10'!C13="","",'F10'!C13) -> 0 | O11: =IF('F10'!C14="","",'F10'!C14)
A12: 11 | B12: =IF('F11'!C1="","",'F11'!C1) | C12: =IF('F11'!C2="","",'F11'!C2) | D12: =IF('F11'!C3="","",'F11'!C3) | E12: =IF('F11'!C4="","",'F11'!C4) | F12: =IF('F11'!C5="","",'F11'!C5) | G12: =IF('F11'!C6="","",'F11'!C6) | H12: =IF('F11'!C7="","",'F11'!C7) | I12: =IF('F11'!C8="","",'F11'!C8) | J12: =IF('F11'!C9="","",'F11'!C9) | K12: =IF('F11'!C10="","",'F11'!C10) | L12: =IF('F11'!C11="","",'F11'!C11) | M12: =IF('F11'!C12="","",'F11'!C12) | N12: =IF('F11'!C13="","",'F11'!C13) -> 0 | O12: =IF('F11'!C14="","",'F11'!C14)
A13: 12 | B13: =IF('F12'!C1="","",'F12'!C1) | C13: =IF('F12'!C2="","",'F12'!C2) | D13: =IF('F12'!C3="","",'F12'!C3) | E13: =IF('F12'!C4="","",'F12'!C4) | F13: =IF('F12'!C5="","",'F12'!C5) | G13: =IF('F12'!C6="","",'F12'!C6) | H13: =IF('F12'!C7="","",'F12'!C7) | I13: =IF('F12'!C8="","",'F12'!C8) | J13: =IF('F12'!C9="","",'F12'!C9) | K13: =IF('F12'!C10="","",'F12'!C10) | L13: =IF('F2'!C11="","",'F12'!C11) | M13: =IF('F12'!C12="","",'F12'!C12) | N13: =IF('F12'!C13="","",'F12'!C13) -> 0 | O13: =IF('F12'!C14="","",'F12'!C14)
A14: 13 | B14: =IF('F13'!C1="","",'F13'!C1) | C14: =IF('F13'!C2="","",'F13'!C2) | D14: =IF('F13'!C3="","",'F13'!C3) | E14: =IF('F13'!C4="","",'F13'!C4) | F14: =IF('F13'!C5="","",'F13'!C5) | G14: =IF('F13'!C6="","",'F13'!C6) | H14: =IF('F13'!C7="","",'F13'!C7) | I14: =IF('F13'!C8="","",'F13'!C8) | J14: =IF('F13'!C9="","",'F13'!C9) | K14: =IF('F13'!C10="","",'F13'!C10) | L14: =IF('F13'!C11="","",'F13'!C11) | M14: =IF('F13'!C12="","",'F13'!C12) | N14: =IF('F13'!C13="","",'F13'!C13) -> 0 | O14: =IF('F13'!C14="","",'F13'!C14)
A15: 14 | B15: =IF('F14'!C1="","",'F14'!C1) | C15: =IF('F14'!C2="","",'F14'!C2) | D15: =IF('F14'!C3="","",'F14'!C3) | E15: =IF('F14'!C4="","",'F14'!C4) | F15: =IF('F14'!C5="","",'F14'!C5) | G15: =IF('F14'!C6="","",'F14'!C6) | H15: =IF('F14'!C7="","",'F14'!C7) | I15: =IF('F14'!C8="","",'F14'!C8) | J15: =IF('F14'!C9="","",'F14'!C9) | K15: =IF('F14'!C10="","",'F14'!C10) | L15: =IF('F14'!C11="","",'F14'!C11) | M15: =IF('F14'!C12="","",'F14'!C12) | N15: =IF('F14'!C13="","",'F14'!C13) -> 0 | O15: =IF('F14'!C14="","",'F14'!C14)
A16: 15 | B16: =IF('F15'!C1="","",'F15'!C1) | C16: =IF('F15'!C2="","",'F15'!C2) | D16: =IF('F15'!C3="","",'F15'!C3) | E16: =IF('F15'!C4="","",'F15'!C4) | F16: =IF('F15'!C5="","",'F15'!C5) | G16: =IF('F15'!C6="","",'F15'!C6) | H16: =IF('F15'!C7="","",'F15'!C7) | I16: =IF('F15'!C8="","",'F15'!C8) | J16: =IF('F15'!C9="","",'F15'!C9) | K16: =IF('F15'!C10="","",'F15'!C10) | L16: =IF('F15'!C11="","",'F15'!C11) | M16: =IF('F15'!C12="","",'F15'!C12) | N16: =IF('F15'!C13="","",'F15'!C13) -> 0 | O16: =IF('F15'!C14="","",'F15'!C14)
A17: TALEP EDİLEN TOPLAM BÜTÇE | N17: =SUM(N2:N16) -> 0

Sheet Yıllık Takvim
A1: Günler | B1: Eylül | C1: Ekim | D1: Kasım | E1: Aralık | F1: Ocak | G1: Şubat | H1: Mart | I1: Nisan | J1: Mayıs | K1: Haziran | L1: Temmuz | M1: Ağustos
A2: 1
A3: 2
A4: 3
A5: 4
A6: 5
A7: 6
A8: 7
A9: 8
A10: 9
A11: 10
A12: 11
A13: 12
... A32: 31
